BEGIN:VCALENDAR
VERSION:2.0
PRODID:-//Home | Lawrence Cloisters Trust - ECPv6.15.17.1//NONSGML v1.0//EN
CALSCALE:GREGORIAN
METHOD:PUBLISH
X-WR-CALNAME:Home | Lawrence Cloisters Trust
X-ORIGINAL-URL:https://www.lawrencecloisterstrust.org
X-WR-CALDESC:Events for Home | Lawrence Cloisters Trust
REFRESH-INTERVAL;VALUE=DURATION:PT1H
X-Robots-Tag:noindex
X-PUBLISHED-TTL:PT1H
BEGIN:VTIMEZONE
TZID:Europe/London
BEGIN:DAYLIGHT
TZOFFSETFROM:+0000
TZOFFSETTO:+0100
TZNAME:BST
DTSTART:20240331T010000
END:DAYLIGHT
BEGIN:STANDARD
TZOFFSETFROM:+0100
TZOFFSETTO:+0000
TZNAME:GMT
DTSTART:20241027T010000
END:STANDARD
BEGIN:DAYLIGHT
TZOFFSETFROM:+0000
TZOFFSETTO:+0100
TZNAME:BST
DTSTART:20250330T010000
END:DAYLIGHT
BEGIN:STANDARD
TZOFFSETFROM:+0100
TZOFFSETTO:+0000
TZNAME:GMT
DTSTART:20251026T010000
END:STANDARD
BEGIN:DAYLIGHT
TZOFFSETFROM:+0000
TZOFFSETTO:+0100
TZNAME:BST
DTSTART:20260329T010000
END:DAYLIGHT
BEGIN:STANDARD
TZOFFSETFROM:+0100
TZOFFSETTO:+0000
TZNAME:GMT
DTSTART:20261025T010000
END:STANDARD
END:VTIMEZONE
BEGIN:VEVENT
DTSTART;VALUE=DATE:20250628
DTEND;VALUE=DATE:20250630
DTSTAMP:20260421T083858
CREATED:20250602T113013Z
LAST-MODIFIED:20250602T113013Z
UID:402-1751068800-1751241599@www.lawrencecloisterstrust.org
SUMMARY:Volunteer Day 28th & 29th June
DESCRIPTION:As someone passionate about The Cloisters you have an opportunity to make a difference. \nOn Saturday 28th and Sunday 29th June we are asking for as many volunteers as possible to come and help with various tasks around the building. These will include: \n\nGrounds work-clearing up old planting and preparing for the summer\nCleaning various areas of the Cloisters\nRubbing down and painting of window frames\nCleaning pathways and walkways\n\nEach day will start at 10am with bacon rolls and tea/coffee. There will be pesto pasta with spinach and chicken. Vegetarian and other dietary requirements will be provided where possible. \nBecome a Volunteer
URL:https://www.lawrencecloisterstrust.org/event/volunteer-day-28th-29th-june/
LOCATION:The Cloisters\, Barrington Road\, Letchworth Garden City\, Hertfordshire\, SG6 3TH\, United Kingdom
ATTACH;FMTTYPE=image/jpeg:https://www.lawrencecloisterstrust.org/wp-content/uploads/2025/06/83ac0ba7-493b-e889-3b0b-effa22328843.jpg
END:VEVENT
END:VCALENDAR