BEGIN:VCALENDAR
VERSION:2.0
PRODID:-//Home | Lawrence Cloisters Trust - ECPv6.15.17.1//NONSGML v1.0//EN
CALSCALE:GREGORIAN
METHOD:PUBLISH
X-ORIGINAL-URL:https://www.lawrencecloisterstrust.org
X-WR-CALDESC:Events for Home | Lawrence Cloisters Trust
REFRESH-INTERVAL;VALUE=DURATION:PT1H
X-Robots-Tag:noindex
X-PUBLISHED-TTL:PT1H
BEGIN:VTIMEZONE
TZID:Europe/London
BEGIN:DAYLIGHT
TZOFFSETFROM:+0000
TZOFFSETTO:+0100
TZNAME:BST
DTSTART:20240331T010000
END:DAYLIGHT
BEGIN:STANDARD
TZOFFSETFROM:+0100
TZOFFSETTO:+0000
TZNAME:GMT
DTSTART:20241027T010000
END:STANDARD
BEGIN:DAYLIGHT
TZOFFSETFROM:+0000
TZOFFSETTO:+0100
TZNAME:BST
DTSTART:20250330T010000
END:DAYLIGHT
BEGIN:STANDARD
TZOFFSETFROM:+0100
TZOFFSETTO:+0000
TZNAME:GMT
DTSTART:20251026T010000
END:STANDARD
BEGIN:DAYLIGHT
TZOFFSETFROM:+0000
TZOFFSETTO:+0100
TZNAME:BST
DTSTART:20260329T010000
END:DAYLIGHT
BEGIN:STANDARD
TZOFFSETFROM:+0100
TZOFFSETTO:+0000
TZNAME:GMT
DTSTART:20261025T010000
END:STANDARD
END:VTIMEZONE
BEGIN:VEVENT
DTSTART;TZID=Europe/London:20251028T150000
DTEND;TZID=Europe/London:20251028T180000
DTSTAMP:20260420T232645
CREATED:20251001T140159Z
LAST-MODIFIED:20251021T093828Z
UID:465-1761663600-1761674400@www.lawrencecloisterstrust.org
SUMMARY:Halloween Kids Party **FULL BOOKED**
DESCRIPTION:On October 28th at The Cloisters we are holding a Children’s Halloween Party at  with lots of spooky fun! Come along and enjoy a ghost hunt\, arts and crafts\, freshly made cakes\, a funky disco and more…. \nFULL BOOKED
URL:https://www.lawrencecloisterstrust.org/event/halloween-kids-party/
LOCATION:The Cloisters\, Barrington Road\, Letchworth Garden City\, Hertfordshire\, SG6 3TH\, United Kingdom
ATTACH;FMTTYPE=image/png:https://www.lawrencecloisterstrust.org/wp-content/uploads/2025/10/HALLOWEEN-PARTY-Facebook-Post.png
END:VEVENT
END:VCALENDAR