BEGIN:VCALENDAR
VERSION:2.0
PRODID:-//Home | Lawrence Cloisters Trust - ECPv6.15.17.1//NONSGML v1.0//EN
CALSCALE:GREGORIAN
METHOD:PUBLISH
X-ORIGINAL-URL:https://www.lawrencecloisterstrust.org
X-WR-CALDESC:Events for Home | Lawrence Cloisters Trust
REFRESH-INTERVAL;VALUE=DURATION:PT1H
X-Robots-Tag:noindex
X-PUBLISHED-TTL:PT1H
BEGIN:VTIMEZONE
TZID:Europe/London
BEGIN:DAYLIGHT
TZOFFSETFROM:+0000
TZOFFSETTO:+0100
TZNAME:BST
DTSTART:20240331T010000
END:DAYLIGHT
BEGIN:STANDARD
TZOFFSETFROM:+0100
TZOFFSETTO:+0000
TZNAME:GMT
DTSTART:20241027T010000
END:STANDARD
BEGIN:DAYLIGHT
TZOFFSETFROM:+0000
TZOFFSETTO:+0100
TZNAME:BST
DTSTART:20250330T010000
END:DAYLIGHT
BEGIN:STANDARD
TZOFFSETFROM:+0100
TZOFFSETTO:+0000
TZNAME:GMT
DTSTART:20251026T010000
END:STANDARD
BEGIN:DAYLIGHT
TZOFFSETFROM:+0000
TZOFFSETTO:+0100
TZNAME:BST
DTSTART:20260329T010000
END:DAYLIGHT
BEGIN:STANDARD
TZOFFSETFROM:+0100
TZOFFSETTO:+0000
TZNAME:GMT
DTSTART:20261025T010000
END:STANDARD
END:VTIMEZONE
BEGIN:VEVENT
DTSTART;TZID=Europe/London:20251214T110000
DTEND;TZID=Europe/London:20251214T150000
DTSTAMP:20260420T234625
CREATED:20241023T082715Z
LAST-MODIFIED:20251030T095634Z
UID:318-1765710000-1765724400@www.lawrencecloisterstrust.org
SUMMARY:Christmas Fayre at The Cloisters
DESCRIPTION:Join us for the magical Christmas Fayre at The Cloisters\, Letchworth!\n \n Celebrate the festive season in a beautifully decorated setting with a variety of stalls offering handmade gifts\, crafts\, and seasonal goodies—perfect for Christmas shopping. \n \nEnjoy delicious food and drink\, from mulled wine to sweet treats\, as you stroll through the Fayre. Festive music will fill the air with your favourite holiday tunes\, creating a warm and joyful atmosphere. Bring the whole family for a festive day out and get into the holiday spirit at The Cloisters!
URL:https://www.lawrencecloisterstrust.org/event/christmas-fayre/
LOCATION:The Cloisters\, Barrington Road\, Letchworth Garden City\, Hertfordshire\, SG6 3TH\, United Kingdom
CATEGORIES:General
ATTACH;FMTTYPE=image/png:https://www.lawrencecloisterstrust.org/wp-content/uploads/2024/10/Christmas-Faye-2025-Banner-1.png
END:VEVENT
END:VCALENDAR