BEGIN:VCALENDAR
VERSION:2.0
PRODID:-//Home | Lawrence Cloisters Trust - ECPv6.15.17.1//NONSGML v1.0//EN
CALSCALE:GREGORIAN
METHOD:PUBLISH
X-WR-CALNAME:Home | Lawrence Cloisters Trust
X-ORIGINAL-URL:https://www.lawrencecloisterstrust.org
X-WR-CALDESC:Events for Home | Lawrence Cloisters Trust
REFRESH-INTERVAL;VALUE=DURATION:PT1H
X-Robots-Tag:noindex
X-PUBLISHED-TTL:PT1H
BEGIN:VTIMEZONE
TZID:Europe/London
BEGIN:DAYLIGHT
TZOFFSETFROM:+0000
TZOFFSETTO:+0100
TZNAME:BST
DTSTART:20230326T010000
END:DAYLIGHT
BEGIN:STANDARD
TZOFFSETFROM:+0100
TZOFFSETTO:+0000
TZNAME:GMT
DTSTART:20231029T010000
END:STANDARD
BEGIN:DAYLIGHT
TZOFFSETFROM:+0000
TZOFFSETTO:+0100
TZNAME:BST
DTSTART:20240331T010000
END:DAYLIGHT
BEGIN:STANDARD
TZOFFSETFROM:+0100
TZOFFSETTO:+0000
TZNAME:GMT
DTSTART:20241027T010000
END:STANDARD
BEGIN:DAYLIGHT
TZOFFSETFROM:+0000
TZOFFSETTO:+0100
TZNAME:BST
DTSTART:20250330T010000
END:DAYLIGHT
BEGIN:STANDARD
TZOFFSETFROM:+0100
TZOFFSETTO:+0000
TZNAME:GMT
DTSTART:20251026T010000
END:STANDARD
BEGIN:DAYLIGHT
TZOFFSETFROM:+0000
TZOFFSETTO:+0100
TZNAME:BST
DTSTART:20260329T010000
END:DAYLIGHT
BEGIN:STANDARD
TZOFFSETFROM:+0100
TZOFFSETTO:+0000
TZNAME:GMT
DTSTART:20261025T010000
END:STANDARD
END:VTIMEZONE
BEGIN:VEVENT
DTSTART;TZID=Europe/London:20250330T120000
DTEND;TZID=Europe/London:20250330T160000
DTSTAMP:20260420T233504
CREATED:20250213T134402Z
LAST-MODIFIED:20250227T204150Z
UID:360-1743336000-1743350400@www.lawrencecloisterstrust.org
SUMMARY:Mother's Day Afternoon Tea & Tour – 30th March 2025
DESCRIPTION:Celebrate Mother’s Day with a charming tea and tour experience at The Cloisters in Letchworth. This delightful event offers the perfect opportunity to honor the  special lady in your life while exploring the beauty and history of the stunning venue. \nEnjoy a guided tour through the picturesque gardens and elegant architecture\, learning about the rich heritage of The Cloisters. Afterward\, indulge in a delicious afternoon tea featuring a selection of delicate sandwiches\, freshly baked scones\, and tempting pastries\, all served with a choice of fine teas (or coffee). With a relaxed and welcoming atmosphere\, this Mother’s Day celebration promises to be a memorable and heartfelt occasion. \n Book Now
URL:https://www.lawrencecloisterstrust.org/event/mothers-day-afternoon-tea-tour-30th-march-2025/
LOCATION:The Cloisters\, Barrington Road\, Letchworth Garden City\, Hertfordshire\, SG6 3TH\, United Kingdom
CATEGORIES:General
ATTACH;FMTTYPE=image/png:https://www.lawrencecloisterstrust.org/wp-content/uploads/2025/02/Copy-of-Cloisters-Mothers-Day-Instagram-Post-940-x-500-px.png
END:VEVENT
BEGIN:VEVENT
DTSTART;TZID=Europe/London:20250216T120000
DTEND;TZID=Europe/London:20250216T150000
DTSTAMP:20260420T233504
CREATED:20241205T112400Z
LAST-MODIFIED:20250213T084749Z
UID:341-1739707200-1739718000@www.lawrencecloisterstrust.org
SUMMARY:Afternoon Tea & Tour – 16th February 2025
DESCRIPTION:Indulge in a delightful afternoon of tea and exploration at The Cloisters! We invite you to enjoy a charming afternoon tea featuring a selection of finely brewed teas\, delicious cakes\, and scones served with clotted cream and jam. \nAfter savoring your treats\, take a guided tour of The Cloisters\, a stunning venue steeped in history and architectural beauty. Discover the fascinating stories behind its design and the role it plays in our community. \nWhether you’re a local or visiting\, this event promises to be a wonderful way to relax and connect with others while experiencing the unique charm of The Cloisters.
URL:https://www.lawrencecloisterstrust.org/event/afternoon-tea-tour-16th-february-2025/
LOCATION:The Cloisters\, Barrington Road\, Letchworth Garden City\, Hertfordshire\, SG6 3TH\, United Kingdom
CATEGORIES:General
ATTACH;FMTTYPE=image/webp:https://www.lawrencecloisterstrust.org/wp-content/uploads/2024/12/tea-sold-out.webp
END:VEVENT
BEGIN:VEVENT
DTSTART;TZID=Europe/London:20250126T120000
DTEND;TZID=Europe/London:20250126T150000
DTSTAMP:20260420T233504
CREATED:20241030T220652Z
LAST-MODIFIED:20241105T205920Z
UID:331-1737892800-1737903600@www.lawrencecloisterstrust.org
SUMMARY:Afternoon Tea & Tour - January 2025
DESCRIPTION:3Indulge in a delightful afternoon of tea and exploration at The Cloisters! We invite you to enjoy a charming afternoon tea featuring a selection of finely brewed teas\, delicious cakes\, and scones served with clotted cream and jam. \nAfter savoring your treats\, take a guided tour of The Cloisters\, a stunning venue steeped in history and architectural beauty. Discover the fascinating stories behind its design and the role it plays in our community. \nWhether you’re a local or visiting\, this event promises to be a wonderful way to relax and connect with others while experiencing the unique charm of The Cloisters. \nBook your place here
URL:https://www.lawrencecloisterstrust.org/event/afternoon-tea-tour-january-2025/
LOCATION:The Cloisters\, Barrington Road\, Letchworth Garden City\, Hertfordshire\, SG6 3TH\, United Kingdom
CATEGORIES:General
ATTACH;FMTTYPE=image/png:https://www.lawrencecloisterstrust.org/wp-content/uploads/2024/10/Copy-of-Cloisters-Mothers-Day-Instagram-Post-940-x-500-px.png
END:VEVENT
BEGIN:VEVENT
DTSTART;TZID=Europe/London:20240927T100000
DTEND;TZID=Europe/London:20240927T170000
DTSTAMP:20260420T233504
CREATED:20240813T203957Z
LAST-MODIFIED:20240813T203957Z
UID:260-1727431200-1727456400@www.lawrencecloisterstrust.org
SUMMARY:Macmillan Tea & Cake Day
DESCRIPTION:Get ready for a delightful morning filled with coffee\, cake\, and good company! We are thrilled to invite you to the MacMillan Coffee Morning at The Cloisters in Letchworth. This heartwarming event is set to take place on 27th September and we would love for you to be part of it. \nWhy Attend?\n\nSupport a Great Cause: Every penny raised helps MacMillan provide essential medical\, emotional\, practical\, and financial support to those affected by cancer.\nCommunity Spirit: It’s a wonderful chance to meet new people\, catch up with friends\, and strengthen community bonds.\nDelicious Treats: Enjoy an array of homemade cakes\, biscuits\, and other baked goods prepared with love by our generous volunteers.
URL:https://www.lawrencecloisterstrust.org/event/macmillan-tea-cake-day/
LOCATION:The Cloisters\, Barrington Road\, Letchworth Garden City\, Hertfordshire\, SG6 3TH\, United Kingdom
CATEGORIES:General
ATTACH;FMTTYPE=image/png:https://www.lawrencecloisterstrust.org/wp-content/uploads/2024/08/Macmillan_Coffee_Morning.png
END:VEVENT
BEGIN:VEVENT
DTSTART;TZID=Europe/London:20240908T110000
DTEND;TZID=Europe/London:20240908T150000
DTSTAMP:20260420T233504
CREATED:20240813T201255Z
LAST-MODIFIED:20240813T201255Z
UID:265-1725793200-1725807600@www.lawrencecloisterstrust.org
SUMMARY:Letchworth Parent and Baby Fayre
DESCRIPTION:North Herts’ biggest pregnancy- pre school Fayre\, featuring: \n\nover 30 local businesses\na packed programme of free demos\nfood and drinks\nfree goodie bags\n raffle\n free car parking\nsoft play
URL:https://www.lawrencecloisterstrust.org/event/letchworth-parent-and-baby-fayre/
LOCATION:The Cloisters\, Barrington Road\, Letchworth Garden City\, Hertfordshire\, SG6 3TH\, United Kingdom
CATEGORIES:General
ATTACH;FMTTYPE=image/webp:https://www.lawrencecloisterstrust.org/wp-content/uploads/2024/08/5849_img_0116.webp
END:VEVENT
BEGIN:VEVENT
DTSTART;TZID=Europe/London:20240907T193000
DTEND;TZID=Europe/London:20240907T193000
DTSTAMP:20260420T233504
CREATED:20240814T205032Z
LAST-MODIFIED:20240814T205158Z
UID:276-1725737400-1725737400@www.lawrencecloisterstrust.org
SUMMARY:Marilyn - A Memorial Charity Show for Garden House Hospice
DESCRIPTION:A memorial show is happening on the 7th September to raise money for Garden House Hospice in Letchworth in memory of Marilyn Ames (wife to Les Ames) both from Bassingbourn Village. \nBAR – BUFFET – RAFFLE \nGet a group together for an enjoyable evening out. \n£25pp to book call 07395 427139 – Tickets to be paid on the door by cash or card. We will have a list of pre-booked tickets.
URL:https://www.lawrencecloisterstrust.org/event/marilyn-a-memorial-charity-show-for-garden-house-hospice/
LOCATION:The Cloisters\, Barrington Road\, Letchworth Garden City\, Hertfordshire\, SG6 3TH\, United Kingdom
CATEGORIES:General
ATTACH;FMTTYPE=image/png:https://www.lawrencecloisterstrust.org/wp-content/uploads/2024/08/show.png
END:VEVENT
BEGIN:VEVENT
DTSTART;TZID=Europe/London:20240820T190000
DTEND;TZID=Europe/London:20240820T210000
DTSTAMP:20260420T233504
CREATED:20240722T150758Z
LAST-MODIFIED:20240807T193728Z
UID:197-1724180400-1724187600@www.lawrencecloisterstrust.org
SUMMARY:The Lawrence Cloisters Trust AGM 2024
DESCRIPTION:The Lawrence Cloisters Trust AGM 2024\, a pivotal event dedicated to the reservation and enhancement of our cherished heritage site. This annual meeting offers a unique opportunity to engage with fellow supporters\, hear updates on our achievements\, and discuss future plans for The Cloisters. \nHighlights include updates on the Building and its restoration\, Finance from our treasuer annd an interactive Q&A session. As members\, your participation is vital in shaping our path forward. \nMark your calendars for this important event to the ongoing legacy of The Cloisters.
URL:https://www.lawrencecloisterstrust.org/event/the-lawrence-cloisters-trust-agm-2024/
LOCATION:The Cloisters\, Barrington Road\, Letchworth Garden City\, Hertfordshire\, SG6 3TH\, United Kingdom
CATEGORIES:General
ATTACH;FMTTYPE=image/jpeg:https://www.lawrencecloisterstrust.org/wp-content/uploads/2023/08/a40567ce-03b5-4949-9383-072586eb7773.jpg
END:VEVENT
END:VCALENDAR