BEGIN:VCALENDAR
VERSION:2.0
PRODID:-//Home | Lawrence Cloisters Trust - ECPv6.15.17.1//NONSGML v1.0//EN
CALSCALE:GREGORIAN
METHOD:PUBLISH
X-ORIGINAL-URL:https://www.lawrencecloisterstrust.org
X-WR-CALDESC:Events for Home | Lawrence Cloisters Trust
REFRESH-INTERVAL;VALUE=DURATION:PT1H
X-Robots-Tag:noindex
X-PUBLISHED-TTL:PT1H
BEGIN:VTIMEZONE
TZID:Europe/London
BEGIN:DAYLIGHT
TZOFFSETFROM:+0000
TZOFFSETTO:+0100
TZNAME:BST
DTSTART:20240331T010000
END:DAYLIGHT
BEGIN:STANDARD
TZOFFSETFROM:+0100
TZOFFSETTO:+0000
TZNAME:GMT
DTSTART:20241027T010000
END:STANDARD
BEGIN:DAYLIGHT
TZOFFSETFROM:+0000
TZOFFSETTO:+0100
TZNAME:BST
DTSTART:20250330T010000
END:DAYLIGHT
BEGIN:STANDARD
TZOFFSETFROM:+0100
TZOFFSETTO:+0000
TZNAME:GMT
DTSTART:20251026T010000
END:STANDARD
BEGIN:DAYLIGHT
TZOFFSETFROM:+0000
TZOFFSETTO:+0100
TZNAME:BST
DTSTART:20260329T010000
END:DAYLIGHT
BEGIN:STANDARD
TZOFFSETFROM:+0100
TZOFFSETTO:+0000
TZNAME:GMT
DTSTART:20261025T010000
END:STANDARD
END:VTIMEZONE
BEGIN:VEVENT
DTSTART;TZID=Europe/London:20250706T120000
DTEND;TZID=Europe/London:20250706T170000
DTSTAMP:20260421T052848
CREATED:20250430T114419Z
LAST-MODIFIED:20250509T192438Z
UID:390-1751803200-1751821200@www.lawrencecloisterstrust.org
SUMMARY:Afternoon Tea & Tour Booking - 6th July 2025
DESCRIPTION:Step into history and elegance with our exclusive Afternoon Tea & Tour at The Cloisters on Saturday\, 6th July. Nestled within the enchanting surroundings of this historic building\, guests will enjoy a delightful afternoon of exploration and indulgence. \nYour visit begins with a guided tour of The Cloisters\, where you’ll uncover the fascinating stories\, architecture\, and hidden details that make this venue so unique. From its rich heritage to recent renovations\, the tour offers an inspiring glimpse into the past and future of this remarkable site. \nFollowing the tour\, relax and enjoy a selection of finely cut sandwiches\, scones with clotted cream and jam\, and an array of delicious cakes and pastries served with your choice of tea or coffee. \nWhether you’re a history enthusiast\, a lover of fine food\, or simply looking for a unique experience\, this is the perfect way to spend a summer afternoon. \nBooking is essential\, as spaces are limited. \nTea & Tour £29.00\nTea only £24.00\nTour only £10.00\n \nBOOK ONLINE NOW
URL:https://www.lawrencecloisterstrust.org/event/afternoon-tea-tour-booking-6th-july-2025/
LOCATION:The Cloisters\, Barrington Road\, Letchworth Garden City\, Hertfordshire\, SG6 3TH\, United Kingdom
CATEGORIES:General
ATTACH;FMTTYPE=image/png:https://www.lawrencecloisterstrust.org/wp-content/uploads/2025/04/Tea-and-Tour-July-25.png
END:VEVENT
END:VCALENDAR